BEGIN:VCALENDAR
VERSION:2.0
PRODID:-//wp-events-plugin.com//7.2.3.1//EN
TZID:Europe/Berlin
X-WR-TIMEZONE:Europe/Berlin
BEGIN:VEVENT
UID:129@vgem-bergtheim.de
DTSTART;TZID=Europe/Berlin:20241115T193000
DTEND;TZID=Europe/Berlin:20241115T193000
DTSTAMP:20240916T123832Z
URL:https://vgem-bergtheim.de/events/generalversammlung-freiwillige-feuerw
 ehr-bergtheim/
SUMMARY:Generalversammlung Freiwillige Feuerwehr Bergtheim
DESCRIPTION:Generalversammlung für alle Mitglieder im Feuerwehrhaus Bergth
 eim
CATEGORIES:Veranstaltungen Bergtheim
END:VEVENT
BEGIN:VTIMEZONE
TZID:Europe/Berlin
X-LIC-LOCATION:Europe/Berlin
BEGIN:STANDARD
DTSTART:20241027T020000
TZOFFSETFROM:+0200
TZOFFSETTO:+0100
TZNAME:CET
END:STANDARD
END:VTIMEZONE
END:VCALENDAR